BEGIN:VCALENDAR
VERSION:2.0
PRODID:-//NAAM - North Atlantic Aviation Museum - Gander, NL - ECPv6.15.20//NONSGML v1.0//EN
CALSCALE:GREGORIAN
METHOD:PUBLISH
X-ORIGINAL-URL:https://northatlanticaviationmuseum.com
X-WR-CALDESC:Events for NAAM - North Atlantic Aviation Museum - Gander, NL
REFRESH-INTERVAL;VALUE=DURATION:PT1H
X-Robots-Tag:noindex
X-PUBLISHED-TTL:PT1H
BEGIN:VTIMEZONE
TZID:UTC
BEGIN:STANDARD
TZOFFSETFROM:+0000
TZOFFSETTO:+0000
TZNAME:UTC
DTSTART:20240101T000000
END:STANDARD
END:VTIMEZONE
BEGIN:VEVENT
DTSTART;TZID=UTC:20250428T190000
DTEND;TZID=UTC:20250428T210000
DTSTAMP:20260423T112653
CREATED:20250425T125508Z
LAST-MODIFIED:20250804T141655Z
UID:614-1745866800-1745874000@northatlanticaviationmuseum.com
SUMMARY:NAAM 2025 AGM
DESCRIPTION:The North Atlantic Aviation Museum will be hosting it’s 2025 Annual General Meeting on Monday\, April 28th. We will welcome guests at 7pm at 135 Trans-Canada Highway\, Gander. \nThis even is open to the public\, but please remember\, if you wish to vote\, your NAAM membership must be up to date. You can renew your membership (or create one) by stopping by the Museum or calling 709 256 2923 to pay with credit card over the phone. \nWe thank the aviation community for all over your continued support and hope to see you there!
URL:https://northatlanticaviationmuseum.com/event/naam-2025-agm/
LOCATION:North Atlantic Aviation Museum\, 135 TCH\, Gander\, NL\, Canada
END:VEVENT
END:VCALENDAR